BEGIN:VCALENDAR
VERSION:2.0
PRODID:-//AZIMUT orientation - ECPv6.15.20//NONSGML v1.0//EN
CALSCALE:GREGORIAN
METHOD:PUBLISH
X-WR-CALNAME:AZIMUT orientation
X-ORIGINAL-URL:https://azimut-orientation.com
X-WR-CALDESC:Évènements pour AZIMUT orientation
REFRESH-INTERVAL;VALUE=DURATION:PT1H
X-Robots-Tag:noindex
X-PUBLISHED-TTL:PT1H
BEGIN:VTIMEZONE
TZID:Europe/Paris
BEGIN:DAYLIGHT
TZOFFSETFROM:+0100
TZOFFSETTO:+0200
TZNAME:CEST
DTSTART:20240331T010000
END:DAYLIGHT
BEGIN:STANDARD
TZOFFSETFROM:+0200
TZOFFSETTO:+0100
TZNAME:CET
DTSTART:20241027T010000
END:STANDARD
BEGIN:DAYLIGHT
TZOFFSETFROM:+0100
TZOFFSETTO:+0200
TZNAME:CEST
DTSTART:20250330T010000
END:DAYLIGHT
BEGIN:STANDARD
TZOFFSETFROM:+0200
TZOFFSETTO:+0100
TZNAME:CET
DTSTART:20251026T010000
END:STANDARD
BEGIN:DAYLIGHT
TZOFFSETFROM:+0100
TZOFFSETTO:+0200
TZNAME:CEST
DTSTART:20260329T010000
END:DAYLIGHT
BEGIN:STANDARD
TZOFFSETFROM:+0200
TZOFFSETTO:+0100
TZNAME:CET
DTSTART:20261025T010000
END:STANDARD
END:VTIMEZONE
BEGIN:VEVENT
DTSTART;VALUE=DATE:20251130
DTEND;VALUE=DATE:20251201
DTSTAMP:20260421T125849
CREATED:20251130T181454Z
LAST-MODIFIED:20251130T181454Z
UID:15969-1764460800-1764547199@azimut-orientation.com
SUMMARY:Conférence à Bordeaux par Les Cours du Parnasse
DESCRIPTION:RÉUSSIR SON ADMISSION À SCIENCES PO OU EN IEP\nPROGRAMME\n\nOn vous explique tout sur le concours 2026 d’entrée au Collège Universitaire de Sciences Po Paris et les modalités d’évaluation du dossier scolaire. Nous vous présenterons également les concours des IEP. \nNous répondrons à toutes vos questions que vous vous posez : \n\nComment mettre toutes les chances de son côté pour intégrer un Institut d’études politiques ?\nQu’apporte l’accompagnement d’une prépa à une candidature ?\nQuelles sont les attentes des jurys ?\nComment élaborer une stratégie de candidature (campus\, projet\, etc.) ?\nQuels sont les plans B à envisager dans le cadre de Parcoursup ?\n … et toutes les réponses à vos questions en direct !\n\n\nNous présenterons également l’équipe des Cours du Parnasse et le déroulement des stages de préparation à Sciences Po Paris et aux IEP.\n\nDurée : 1h environ
URL:https://azimut-orientation.com/calendrier-orientation/conference-a-bordeaux-par-les-cours-du-parnasse/
LOCATION:Les Cours du Parnasse Bordeaux
CATEGORIES:Réunions et webinaires
ATTACH;FMTTYPE=image/png:https://azimut-orientation.com/wp-content/uploads/2025/04/les-cours-du-parnasse.png
END:VEVENT
END:VCALENDAR