BEGIN:VCALENDAR
VERSION:2.0
PRODID:-//AZIMUT orientation - ECPv6.15.20//NONSGML v1.0//EN
CALSCALE:GREGORIAN
METHOD:PUBLISH
X-WR-CALNAME:AZIMUT orientation
X-ORIGINAL-URL:https://azimut-orientation.com
X-WR-CALDESC:Évènements pour AZIMUT orientation
REFRESH-INTERVAL;VALUE=DURATION:PT1H
X-Robots-Tag:noindex
X-PUBLISHED-TTL:PT1H
BEGIN:VTIMEZONE
TZID:Europe/Paris
BEGIN:DAYLIGHT
TZOFFSETFROM:+0100
TZOFFSETTO:+0200
TZNAME:CEST
DTSTART:20240331T010000
END:DAYLIGHT
BEGIN:STANDARD
TZOFFSETFROM:+0200
TZOFFSETTO:+0100
TZNAME:CET
DTSTART:20241027T010000
END:STANDARD
BEGIN:DAYLIGHT
TZOFFSETFROM:+0100
TZOFFSETTO:+0200
TZNAME:CEST
DTSTART:20250330T010000
END:DAYLIGHT
BEGIN:STANDARD
TZOFFSETFROM:+0200
TZOFFSETTO:+0100
TZNAME:CET
DTSTART:20251026T010000
END:STANDARD
BEGIN:DAYLIGHT
TZOFFSETFROM:+0100
TZOFFSETTO:+0200
TZNAME:CEST
DTSTART:20260329T010000
END:DAYLIGHT
BEGIN:STANDARD
TZOFFSETFROM:+0200
TZOFFSETTO:+0100
TZNAME:CET
DTSTART:20261025T010000
END:STANDARD
END:VTIMEZONE
BEGIN:VEVENT
DTSTART;VALUE=DATE:20251121
DTEND;VALUE=DATE:20251123
DTSTAMP:20260420T164404
CREATED:20250925T065730Z
LAST-MODIFIED:20250925T065730Z
UID:14363-1763683200-1763855999@azimut-orientation.com
SUMMARY:Le Grand Salon des grandes écoles
DESCRIPTION:L’évènement incontournable des élèves\, parents et étudiants motivés \nLe Grand Salon des Grandes Ecoles du 21-22 novembre 2025 au cœur de Paris au Carreau du Temple (75003) est le seul salon étudiant TOUT-EN-UN avec : \n\nExclusivement la LIGUE 1 des Grandes Ecoles de management (TOP 30) et Sciences Po Paris\nUn espace Parcoursup / Orientation de 100 m² pour recevoir gratuitement tous les parents et lycéen(ne)s lors d’un rendez-vous individuel avec un(e) conseiller du cabinet d’orientation haut de gamme Eurêka Study.\nUne préparation aux concours intégrée : ateliers de préparation\, conférences en amphithéâtre\, échanges avec des spécialistes de la préparation aux concours ACCES / SESAME & AST (stand Hello Prépa)\, etc.\nPlus de 30 Masterclass par des speakers inspirants : Éloïc Peyrache (DG d’HEC Paris)\, Vincenzo Vinzi (DG de l’ESSEC)\, Léon Laulusa (DG de l’ESCP)\, Alice Guilhon (DG de SKEMA)\, Jokariz (Finance)\, Berntrand Périer & Pierre Faury (art oratoire)\, Frédéric Munier (géopolitique)\, le major d’HEC Paris\, etc.
URL:https://azimut-orientation.com/calendrier-orientation/le-grand-salon-des-grandes-ecoles/
LOCATION:Le Carreau du Temple
CATEGORIES:Salon
ATTACH;FMTTYPE=image/jpeg:https://azimut-orientation.com/wp-content/uploads/2025/09/1730719472117.jpeg
END:VEVENT
END:VCALENDAR