BEGIN:VCALENDAR
VERSION:2.0
PRODID:-//AZIMUT orientation - ECPv6.15.20//NONSGML v1.0//EN
CALSCALE:GREGORIAN
METHOD:PUBLISH
X-WR-CALNAME:AZIMUT orientation
X-ORIGINAL-URL:https://azimut-orientation.com
X-WR-CALDESC:Évènements pour AZIMUT orientation
REFRESH-INTERVAL;VALUE=DURATION:PT1H
X-Robots-Tag:noindex
X-PUBLISHED-TTL:PT1H
BEGIN:VTIMEZONE
TZID:Europe/Paris
BEGIN:DAYLIGHT
TZOFFSETFROM:+0100
TZOFFSETTO:+0200
TZNAME:CEST
DTSTART:20240331T010000
END:DAYLIGHT
BEGIN:STANDARD
TZOFFSETFROM:+0200
TZOFFSETTO:+0100
TZNAME:CET
DTSTART:20241027T010000
END:STANDARD
BEGIN:DAYLIGHT
TZOFFSETFROM:+0100
TZOFFSETTO:+0200
TZNAME:CEST
DTSTART:20250330T010000
END:DAYLIGHT
BEGIN:STANDARD
TZOFFSETFROM:+0200
TZOFFSETTO:+0100
TZNAME:CET
DTSTART:20251026T010000
END:STANDARD
BEGIN:DAYLIGHT
TZOFFSETFROM:+0100
TZOFFSETTO:+0200
TZNAME:CEST
DTSTART:20260329T010000
END:DAYLIGHT
BEGIN:STANDARD
TZOFFSETFROM:+0200
TZOFFSETTO:+0100
TZNAME:CET
DTSTART:20261025T010000
END:STANDARD
END:VTIMEZONE
BEGIN:VEVENT
DTSTART;VALUE=DATE:20251128
DTEND;VALUE=DATE:20251130
DTSTAMP:20260420T150746
CREATED:20250829T100720Z
LAST-MODIFIED:20250829T100720Z
UID:13329-1764288000-1764460799@azimut-orientation.com
SUMMARY:Le Salon du lycéen et de l'étudiant à Nantes
DESCRIPTION:Vous êtes au lycée ou en études supérieures et vous réfléchissez à votre futur parcours d’études ? Le Salon du lycéen et de l’étudiant 2025 à Nantes est le rendez-vous incontournable pour éclairer votre projet d’orientation et façonner votre avenir.\n\nParcoursup c’est plus 26 000 formations : une multitude de possibilités et autant de questions. Orientation\, dossiers de candidature\, débouchés… Pas facile de tout maîtriser\, mais le Salon du lycéen et de l’étudiant à Nantes est là pour vous aider à y voir clair !\n\nOrganisé en partenariat avec l’Académie de Nantes\, retrouvez au programme de notre salon :\n\nInfos sur les formations\, écoles\, universités et métiers.\nConseils pratiques pour préparer Parcoursup.\nFocus sur les dossiers de candidature et les débouchés.\nÉchanges avec des professionnels de l’éducation.\nConférences\, ateliers et stands d’information animés par nos experts.
URL:https://azimut-orientation.com/calendrier-orientation/le-salon-du-lyceen-et-de-letudiant-a-nantes/
LOCATION:l’Étudiant Nantes\, Nantes
CATEGORIES:Salon
ATTACH;FMTTYPE=image/png:https://azimut-orientation.com/wp-content/uploads/2024/10/Letudiant.png
END:VEVENT
END:VCALENDAR