BEGIN:VCALENDAR
VERSION:2.0
PRODID:-//AZIMUT orientation - ECPv6.15.20//NONSGML v1.0//EN
CALSCALE:GREGORIAN
METHOD:PUBLISH
X-WR-CALNAME:AZIMUT orientation
X-ORIGINAL-URL:https://azimut-orientation.com
X-WR-CALDESC:Évènements pour AZIMUT orientation
REFRESH-INTERVAL;VALUE=DURATION:PT1H
X-Robots-Tag:noindex
X-PUBLISHED-TTL:PT1H
BEGIN:VTIMEZONE
TZID:Europe/Paris
BEGIN:DAYLIGHT
TZOFFSETFROM:+0100
TZOFFSETTO:+0200
TZNAME:CEST
DTSTART:20250330T010000
END:DAYLIGHT
BEGIN:STANDARD
TZOFFSETFROM:+0200
TZOFFSETTO:+0100
TZNAME:CET
DTSTART:20251026T010000
END:STANDARD
BEGIN:DAYLIGHT
TZOFFSETFROM:+0100
TZOFFSETTO:+0200
TZNAME:CEST
DTSTART:20260329T010000
END:DAYLIGHT
BEGIN:STANDARD
TZOFFSETFROM:+0200
TZOFFSETTO:+0100
TZNAME:CET
DTSTART:20261025T010000
END:STANDARD
BEGIN:DAYLIGHT
TZOFFSETFROM:+0100
TZOFFSETTO:+0200
TZNAME:CEST
DTSTART:20270328T010000
END:DAYLIGHT
BEGIN:STANDARD
TZOFFSETFROM:+0200
TZOFFSETTO:+0100
TZNAME:CET
DTSTART:20271031T010000
END:STANDARD
END:VTIMEZONE
BEGIN:VEVENT
DTSTART;VALUE=DATE:20260311
DTEND;VALUE=DATE:20260312
DTSTAMP:20260420T194150
CREATED:20260306T123720Z
LAST-MODIFIED:20260306T123720Z
UID:17266-1773187200-1773273599@azimut-orientation.com
SUMMARY:ESD (École Supérieure de Digital) – Journée Portes Ouvertes
DESCRIPTION:Journées Portes Ouvertes\n\n\n\n\nLes Journées Portes Ouvertes (JPO) de l’ESD sont l’occasion parfaite pour découvrir votre future école\, nos formations\, et échanger avec notre équipe pédagogique. Vous souhaitez explorer nos campus\, en savoir plus sur les métiers du numérique\, ou encore poser vos questions sur les admissions ? Venez nous rencontrer lors de nos prochaines JPO et obtenez toutes les informations dont vous avez besoin pour préparer votre avenir. \n\nToute l’année\n\n\nVisitez nos campus\, rencontrez les équipes pédagogiques\, et échangez avec des étudiants. \nPour bien préparer votre visite : \n\nListez vos questions : pensez aux sujets qui vous intéressent le plus (les formations\, le campus\, la vie étudiante…)\n\n\nConsultez le programme : regardez les activités et les présentations pour ne rien manquer\n\n\nVenez avec un parent ou un ami : partager cette expérience peut rendre votre visite encore plus enrichissante !\n\nNous avons hâte de vous accueillir ! \n\n\n\n\nPourquoi participer à une Journée Portes Ouvertes ?\n\n\n\n\n\nRencontre avec nos enseignants et étudiants\n\nÉchangez avec ceux qui font vivre l’école\, comprenez les attentes et les méthodes pédagogiques de nos cursus. \n\n\n\nDécouverte des infrastructures\n\nExplorez nos studios\, nos classes\, et nos espaces de vie. Ces environnements créatifs sont conçus pour stimuler l’innovation. \n\n\n\nAccès à des professionnels\n\nRencontrez les intervenants professionnels dans nos locaux et commencez à construire votre réseau dès aujourd’hui. \nÉvénement sponsorisé
URL:https://azimut-orientation.com/calendrier-orientation/esd-ecole-superieure-de-digital-journee-portes-ouvertes-7/
LOCATION:ESD Toulouse\, 5 Avenue de Grande Bretagne\, Toulouse\, 31300\, France
CATEGORIES:Journées portes ouvertes
ATTACH;FMTTYPE=image/png:https://azimut-orientation.com/wp-content/uploads/2026/03/ESd.png
END:VEVENT
BEGIN:VEVENT
DTSTART;VALUE=DATE:20260314
DTEND;VALUE=DATE:20260315
DTSTAMP:20260420T194150
CREATED:20260306T123229Z
LAST-MODIFIED:20260306T123229Z
UID:17254-1773446400-1773532799@azimut-orientation.com
SUMMARY:ESD (École Supérieure de Digital) – Journée Portes Ouvertes
DESCRIPTION:Journées Portes Ouvertes\n\n\n\n\nLes Journées Portes Ouvertes (JPO) de l’ESD sont l’occasion parfaite pour découvrir votre future école\, nos formations\, et échanger avec notre équipe pédagogique. Vous souhaitez explorer nos campus\, en savoir plus sur les métiers du numérique\, ou encore poser vos questions sur les admissions ? Venez nous rencontrer lors de nos prochaines JPO et obtenez toutes les informations dont vous avez besoin pour préparer votre avenir. \n\nToute l’année\n\n\nVisitez nos campus\, rencontrez les équipes pédagogiques\, et échangez avec des étudiants. \nPour bien préparer votre visite : \n\nListez vos questions : pensez aux sujets qui vous intéressent le plus (les formations\, le campus\, la vie étudiante…)\n\n\nConsultez le programme : regardez les activités et les présentations pour ne rien manquer\n\n\nVenez avec un parent ou un ami : partager cette expérience peut rendre votre visite encore plus enrichissante !\n\nNous avons hâte de vous accueillir ! \n\n\n\n\nPourquoi participer à une Journée Portes Ouvertes ?\n\n\n\n\n\nRencontre avec nos enseignants et étudiants\n\nÉchangez avec ceux qui font vivre l’école\, comprenez les attentes et les méthodes pédagogiques de nos cursus. \n\n\n\nDécouverte des infrastructures\n\nExplorez nos studios\, nos classes\, et nos espaces de vie. Ces environnements créatifs sont conçus pour stimuler l’innovation. \n\n\n\nAccès à des professionnels\n\nRencontrez les intervenants professionnels dans nos locaux et commencez à construire votre réseau dès aujourd’hui. \nÉvénement sponsorisé
URL:https://azimut-orientation.com/calendrier-orientation/esd-ecole-superieure-de-digital-journee-portes-ouvertes-3/
LOCATION:ESD Lyon\, 181 avenue Jean-Jaurès\, Lyon\, 69007\, France
CATEGORIES:Journées portes ouvertes
ATTACH;FMTTYPE=image/png:https://azimut-orientation.com/wp-content/uploads/2026/03/ESd.png
END:VEVENT
BEGIN:VEVENT
DTSTART;VALUE=DATE:20260321
DTEND;VALUE=DATE:20260322
DTSTAMP:20260420T194150
CREATED:20260306T112930Z
LAST-MODIFIED:20260306T112930Z
UID:17151-1774051200-1774137599@azimut-orientation.com
SUMMARY:ESD (École Supérieure de Digital) – Journée Portes Ouvertes
DESCRIPTION:Journées Portes Ouvertes\n\n\n\n\nLes Journées Portes Ouvertes (JPO) de l’ESD sont l’occasion parfaite pour découvrir votre future école\, nos formations\, et échanger avec notre équipe pédagogique. Vous souhaitez explorer nos campus\, en savoir plus sur les métiers du numérique\, ou encore poser vos questions sur les admissions ? Venez nous rencontrer lors de nos prochaines JPO et obtenez toutes les informations dont vous avez besoin pour préparer votre avenir. \n\nToute l’année\n\n\nVisitez nos campus\, rencontrez les équipes pédagogiques\, et échangez avec des étudiants. \nPour bien préparer votre visite : \n\nListez vos questions : pensez aux sujets qui vous intéressent le plus (les formations\, le campus\, la vie étudiante…)\n\n\nConsultez le programme : regardez les activités et les présentations pour ne rien manquer\n\n\nVenez avec un parent ou un ami : partager cette expérience peut rendre votre visite encore plus enrichissante !\n\nNous avons hâte de vous accueillir ! \n\n\n\n\nPourquoi participer à une Journée Portes Ouvertes ?\n\n\n\n\n\nRencontre avec nos enseignants et étudiants\n\nÉchangez avec ceux qui font vivre l’école\, comprenez les attentes et les méthodes pédagogiques de nos cursus. \n\n\n\nDécouverte des infrastructures\n\nExplorez nos studios\, nos classes\, et nos espaces de vie. Ces environnements créatifs sont conçus pour stimuler l’innovation. \n\n\n\nAccès à des professionnels\n\nRencontrez les intervenants professionnels dans nos locaux et commencez à construire votre réseau dès aujourd’hui. \nÉvénement sponsorisé
URL:https://azimut-orientation.com/calendrier-orientation/esd-ecole-superieure-de-digital-journee-portes-ouvertes/
LOCATION:ESD Paris\, 18 bis Avenue de la Motte-Picquet\, Paris\, 75007\, France
CATEGORIES:Journées portes ouvertes
ATTACH;FMTTYPE=image/png:https://azimut-orientation.com/wp-content/uploads/2026/03/ESd.png
END:VEVENT
BEGIN:VEVENT
DTSTART;VALUE=DATE:20260321
DTEND;VALUE=DATE:20260322
DTSTAMP:20260420T194150
CREATED:20260306T123454Z
LAST-MODIFIED:20260306T123454Z
UID:17260-1774051200-1774137599@azimut-orientation.com
SUMMARY:ESD (École Supérieure de Digital) – Journée Portes Ouvertes
DESCRIPTION:Journées Portes Ouvertes\n\n\n\n\nLes Journées Portes Ouvertes (JPO) de l’ESD sont l’occasion parfaite pour découvrir votre future école\, nos formations\, et échanger avec notre équipe pédagogique. Vous souhaitez explorer nos campus\, en savoir plus sur les métiers du numérique\, ou encore poser vos questions sur les admissions ? Venez nous rencontrer lors de nos prochaines JPO et obtenez toutes les informations dont vous avez besoin pour préparer votre avenir. \n\nToute l’année\n\n\nVisitez nos campus\, rencontrez les équipes pédagogiques\, et échangez avec des étudiants. \nPour bien préparer votre visite : \n\nListez vos questions : pensez aux sujets qui vous intéressent le plus (les formations\, le campus\, la vie étudiante…)\n\n\nConsultez le programme : regardez les activités et les présentations pour ne rien manquer\n\n\nVenez avec un parent ou un ami : partager cette expérience peut rendre votre visite encore plus enrichissante !\n\nNous avons hâte de vous accueillir ! \n\n\n\n\nPourquoi participer à une Journée Portes Ouvertes ?\n\n\n\n\n\nRencontre avec nos enseignants et étudiants\n\nÉchangez avec ceux qui font vivre l’école\, comprenez les attentes et les méthodes pédagogiques de nos cursus. \n\n\n\nDécouverte des infrastructures\n\nExplorez nos studios\, nos classes\, et nos espaces de vie. Ces environnements créatifs sont conçus pour stimuler l’innovation. \n\n\n\nAccès à des professionnels\n\nRencontrez les intervenants professionnels dans nos locaux et commencez à construire votre réseau dès aujourd’hui. \nÉvénement sponsorisé
URL:https://azimut-orientation.com/calendrier-orientation/esd-ecole-superieure-de-digital-journee-portes-ouvertes-5/
LOCATION:ESD Bordeaux\, 11 Place de la Ferme de Richemont Bordeaux\, Bordeaux\, 33000\, France
CATEGORIES:Journées portes ouvertes
ATTACH;FMTTYPE=image/png:https://azimut-orientation.com/wp-content/uploads/2026/03/ESd.png
END:VEVENT
END:VCALENDAR