BEGIN:VCALENDAR
VERSION:2.0
PRODID:-//AZIMUT orientation - ECPv6.15.20//NONSGML v1.0//EN
CALSCALE:GREGORIAN
METHOD:PUBLISH
X-ORIGINAL-URL:https://azimut-orientation.com
X-WR-CALDESC:Évènements pour AZIMUT orientation
REFRESH-INTERVAL;VALUE=DURATION:PT1H
X-Robots-Tag:noindex
X-PUBLISHED-TTL:PT1H
BEGIN:VTIMEZONE
TZID:Europe/Paris
BEGIN:DAYLIGHT
TZOFFSETFROM:+0100
TZOFFSETTO:+0200
TZNAME:CEST
DTSTART:20250330T010000
END:DAYLIGHT
BEGIN:STANDARD
TZOFFSETFROM:+0200
TZOFFSETTO:+0100
TZNAME:CET
DTSTART:20251026T010000
END:STANDARD
BEGIN:DAYLIGHT
TZOFFSETFROM:+0100
TZOFFSETTO:+0200
TZNAME:CEST
DTSTART:20260329T010000
END:DAYLIGHT
BEGIN:STANDARD
TZOFFSETFROM:+0200
TZOFFSETTO:+0100
TZNAME:CET
DTSTART:20261025T010000
END:STANDARD
BEGIN:DAYLIGHT
TZOFFSETFROM:+0100
TZOFFSETTO:+0200
TZNAME:CEST
DTSTART:20270328T010000
END:DAYLIGHT
BEGIN:STANDARD
TZOFFSETFROM:+0200
TZOFFSETTO:+0100
TZNAME:CET
DTSTART:20271031T010000
END:STANDARD
END:VTIMEZONE
BEGIN:VEVENT
DTSTART;VALUE=DATE:20260420
DTEND;VALUE=DATE:20260423
DTSTAMP:20260420T180712
CREATED:20260306T111220Z
LAST-MODIFIED:20260306T111220Z
UID:17127-1776643200-1776902399@azimut-orientation.com
SUMMARY:ESD (École Supérieure de Digital) – Stage d’Orientation
DESCRIPTION:Stage d’orientation\n\n\n\nL’École Supérieure du Digital organise des stages d’orientation pour les élèves de Première\, Terminale et Bac+1\, afin de leur faire vivre une immersion unique dans l’univers du digital. Pendant 3 à 4 jours sur le campus\, les participants explorent de façon ludique les fondamentaux de la création digitale\, du webdesign\, du marketing digital et du code. L’occasion idéale pour tester les métiers du numérique\, poser toutes ses questions… et échanger avec les étudiants de l’ESD ! \n\nCe que vous allez découvrir\n\n\nVous êtes lycéen et vous hésitez sur votre orientation professionnelle ? Le monde du web vous attire mais vous ne connaissez pas les métiers qui pourraient s’offrir à vous ? Notre stage d’orientation vous propose de plonger dans notre vie de campus et promet : \n\nDes rencontres enrichissantes : échangez avec des étudiants et des membres de l’équipe pédagogique pour poser toutes vos questions sur les études digitales et les métiers du secteur.\n\n\nDes formations ludiques : découvrez nos formations de manière interactive et engageante\, tout en vous amusant.\n\n\nDes métiers d’avenir : explorez les différents débouchés professionnels et les métiers passionnants offerts par le secteur du digital.\n\nCombien coûte le stage ?\nLe coût du stage varie de 60€ à 80€\, selon la durée. Ce montant sera déduit de vos frais de scolarité si vous vous inscrivez à l’école après le stage. \n\nUn programme ludique et immersif\n\n\nSous la supervision d’intervenants professionnels\, vous travaillerez sur un projet en groupe\, dans des conditions similaires à celles d’une entreprise. Vous aurez l’occasion de : \n\nVous familiariser avec les logiciels comme : Photoshop\, Figma\, etc.\n\n\nCoder la première page de votre application mobile en HTML et CSS.\n\n\nDécouvrir le webmarketing et élaborer le business model de votre start-up.\n\n\nAméliorer vos compétences orales en présentant votre projet devant un public.\n\nÉvénement sponsorisé
URL:https://azimut-orientation.com/calendrier-orientation/esd-ecole-superieure-de-digital-stage-dorientation-3/
LOCATION:ESD Nantes\, 3-5 Rue Fulton\, Nantes\, 44100
CATEGORIES:journées immersions
ATTACH;FMTTYPE=image/png:https://azimut-orientation.com/wp-content/uploads/2026/03/ESd.png
END:VEVENT
BEGIN:VEVENT
DTSTART;VALUE=DATE:20260420
DTEND;VALUE=DATE:20260423
DTSTAMP:20260420T180712
CREATED:20260306T111829Z
LAST-MODIFIED:20260306T111829Z
UID:17138-1776643200-1776902399@azimut-orientation.com
SUMMARY:ESD (École Supérieure de Digital) – Stage d’Orientation
DESCRIPTION:Stage d’orientation\n\n\n\nL’École Supérieure du Digital organise des stages d’orientation pour les élèves de Première\, Terminale et Bac+1\, afin de leur faire vivre une immersion unique dans l’univers du digital. Pendant 3 à 4 jours sur le campus\, les participants explorent de façon ludique les fondamentaux de la création digitale\, du webdesign\, du marketing digital et du code. L’occasion idéale pour tester les métiers du numérique\, poser toutes ses questions… et échanger avec les étudiants de l’ESD ! \n\nCe que vous allez découvrir\n\n\nVous êtes lycéen et vous hésitez sur votre orientation professionnelle ? Le monde du web vous attire mais vous ne connaissez pas les métiers qui pourraient s’offrir à vous ? Notre stage d’orientation vous propose de plonger dans notre vie de campus et promet : \n\nDes rencontres enrichissantes : échangez avec des étudiants et des membres de l’équipe pédagogique pour poser toutes vos questions sur les études digitales et les métiers du secteur.\n\n\nDes formations ludiques : découvrez nos formations de manière interactive et engageante\, tout en vous amusant.\n\n\nDes métiers d’avenir : explorez les différents débouchés professionnels et les métiers passionnants offerts par le secteur du digital.\n\nCombien coûte le stage ?\nLe coût du stage varie de 60€ à 80€\, selon la durée. Ce montant sera déduit de vos frais de scolarité si vous vous inscrivez à l’école après le stage. \n\nUn programme ludique et immersif\n\n\nSous la supervision d’intervenants professionnels\, vous travaillerez sur un projet en groupe\, dans des conditions similaires à celles d’une entreprise. Vous aurez l’occasion de : \n\nVous familiariser avec les logiciels comme : Photoshop\, Figma\, etc.\n\n\nCoder la première page de votre application mobile en HTML et CSS.\n\n\nDécouvrir le webmarketing et élaborer le business model de votre start-up.\n\n\nAméliorer vos compétences orales en présentant votre projet devant un public.\n\nÉvénement sponsorisé
URL:https://azimut-orientation.com/calendrier-orientation/esd-ecole-superieure-de-digital-stage-dorientation-4/
LOCATION:ESD Toulouse\, 5 Avenue de Grande Bretagne\, Toulouse\, 31300\, France
CATEGORIES:journées immersions
ATTACH;FMTTYPE=image/png:https://azimut-orientation.com/wp-content/uploads/2026/03/ESd.png
END:VEVENT
BEGIN:VEVENT
DTSTART;VALUE=DATE:20260421
DTEND;VALUE=DATE:20260425
DTSTAMP:20260420T180712
CREATED:20260306T110315Z
LAST-MODIFIED:20260306T110315Z
UID:17108-1776729600-1777075199@azimut-orientation.com
SUMMARY:ESD (École Supérieure de Digital) – Stage d’Orientation
DESCRIPTION:Stage d’orientation\n\n\n\nL’École Supérieure du Digital organise des stages d’orientation pour les élèves de Première\, Terminale et Bac+1\, afin de leur faire vivre une immersion unique dans l’univers du digital. Pendant 3 à 4 jours sur le campus\, les participants explorent de façon ludique les fondamentaux de la création digitale\, du webdesign\, du marketing digital et du code. L’occasion idéale pour tester les métiers du numérique\, poser toutes ses questions… et échanger avec les étudiants de l’ESD ! \n\nCe que vous allez découvrir\n\n\nVous êtes lycéen et vous hésitez sur votre orientation professionnelle ? Le monde du web vous attire mais vous ne connaissez pas les métiers qui pourraient s’offrir à vous ? Notre stage d’orientation vous propose de plonger dans notre vie de campus et promet : \n\nDes rencontres enrichissantes : échangez avec des étudiants et des membres de l’équipe pédagogique pour poser toutes vos questions sur les études digitales et les métiers du secteur.\n\n\nDes formations ludiques : découvrez nos formations de manière interactive et engageante\, tout en vous amusant.\n\n\nDes métiers d’avenir : explorez les différents débouchés professionnels et les métiers passionnants offerts par le secteur du digital.\n\nCombien coûte le stage ?\nLe coût du stage varie de 60€ à 80€\, selon la durée. Ce montant sera déduit de vos frais de scolarité si vous vous inscrivez à l’école après le stage. \n\nUn programme ludique et immersif\n\n\nSous la supervision d’intervenants professionnels\, vous travaillerez sur un projet en groupe\, dans des conditions similaires à celles d’une entreprise. Vous aurez l’occasion de : \n\nVous familiariser avec les logiciels comme : Photoshop\, Figma\, etc.\n\n\nCoder la première page de votre application mobile en HTML et CSS.\n\n\nDécouvrir le webmarketing et élaborer le business model de votre start-up.\n\n\nAméliorer vos compétences orales en présentant votre projet devant un public.\n\nÉvénement sponsorisé
URL:https://azimut-orientation.com/calendrier-orientation/esd-ecole-superieure-de-digital-stage-dorientation/
LOCATION:ESD Paris\, 18 bis Avenue de la Motte-Picquet\, Paris\, 75007\, France
CATEGORIES:journées immersions
ATTACH;FMTTYPE=image/png:https://azimut-orientation.com/wp-content/uploads/2026/03/ESd.png
END:VEVENT
BEGIN:VEVENT
DTSTART;VALUE=DATE:20260425
DTEND;VALUE=DATE:20260426
DTSTAMP:20260420T180712
CREATED:20260306T123343Z
LAST-MODIFIED:20260306T123343Z
UID:17257-1777075200-1777161599@azimut-orientation.com
SUMMARY:ESD (École Supérieure de Digital) – Journée Portes Ouvertes
DESCRIPTION:Journées Portes Ouvertes\n\n\n\n\nLes Journées Portes Ouvertes (JPO) de l’ESD sont l’occasion parfaite pour découvrir votre future école\, nos formations\, et échanger avec notre équipe pédagogique. Vous souhaitez explorer nos campus\, en savoir plus sur les métiers du numérique\, ou encore poser vos questions sur les admissions ? Venez nous rencontrer lors de nos prochaines JPO et obtenez toutes les informations dont vous avez besoin pour préparer votre avenir. \n\nToute l’année\n\n\nVisitez nos campus\, rencontrez les équipes pédagogiques\, et échangez avec des étudiants. \nPour bien préparer votre visite : \n\nListez vos questions : pensez aux sujets qui vous intéressent le plus (les formations\, le campus\, la vie étudiante…)\n\n\nConsultez le programme : regardez les activités et les présentations pour ne rien manquer\n\n\nVenez avec un parent ou un ami : partager cette expérience peut rendre votre visite encore plus enrichissante !\n\nNous avons hâte de vous accueillir ! \n\n\n\n\nPourquoi participer à une Journée Portes Ouvertes ?\n\n\n\n\n\nRencontre avec nos enseignants et étudiants\n\nÉchangez avec ceux qui font vivre l’école\, comprenez les attentes et les méthodes pédagogiques de nos cursus. \n\n\n\nDécouverte des infrastructures\n\nExplorez nos studios\, nos classes\, et nos espaces de vie. Ces environnements créatifs sont conçus pour stimuler l’innovation. \n\n\n\nAccès à des professionnels\n\nRencontrez les intervenants professionnels dans nos locaux et commencez à construire votre réseau dès aujourd’hui. \nÉvénement sponsorisé
URL:https://azimut-orientation.com/calendrier-orientation/esd-ecole-superieure-de-digital-journee-portes-ouvertes-4/
LOCATION:ESD Lyon\, 181 avenue Jean-Jaurès\, Lyon\, 69007\, France
CATEGORIES:Journées portes ouvertes
END:VEVENT
END:VCALENDAR