BEGIN:VCALENDAR
VERSION:2.0
PRODID:-//AZIMUT orientation - ECPv6.15.20//NONSGML v1.0//EN
CALSCALE:GREGORIAN
METHOD:PUBLISH
X-WR-CALNAME:AZIMUT orientation
X-ORIGINAL-URL:https://azimut-orientation.com
X-WR-CALDESC:Évènements pour AZIMUT orientation
REFRESH-INTERVAL;VALUE=DURATION:PT1H
X-Robots-Tag:noindex
X-PUBLISHED-TTL:PT1H
BEGIN:VTIMEZONE
TZID:Europe/Paris
BEGIN:DAYLIGHT
TZOFFSETFROM:+0100
TZOFFSETTO:+0200
TZNAME:CEST
DTSTART:20230326T010000
END:DAYLIGHT
BEGIN:STANDARD
TZOFFSETFROM:+0200
TZOFFSETTO:+0100
TZNAME:CET
DTSTART:20231029T010000
END:STANDARD
BEGIN:DAYLIGHT
TZOFFSETFROM:+0100
TZOFFSETTO:+0200
TZNAME:CEST
DTSTART:20240331T010000
END:DAYLIGHT
BEGIN:STANDARD
TZOFFSETFROM:+0200
TZOFFSETTO:+0100
TZNAME:CET
DTSTART:20241027T010000
END:STANDARD
BEGIN:DAYLIGHT
TZOFFSETFROM:+0100
TZOFFSETTO:+0200
TZNAME:CEST
DTSTART:20250330T010000
END:DAYLIGHT
BEGIN:STANDARD
TZOFFSETFROM:+0200
TZOFFSETTO:+0100
TZNAME:CET
DTSTART:20251026T010000
END:STANDARD
END:VTIMEZONE
BEGIN:VEVENT
DTSTART;VALUE=DATE:20241012
DTEND;VALUE=DATE:20241013
DTSTAMP:20260421T182518
CREATED:20241007T091819Z
LAST-MODIFIED:20241007T093427Z
UID:8772-1728691200-1728777599@azimut-orientation.com
SUMMARY:Salon Studyrama des Formations Art\, Communication et Digital d’Aix-en-Provence
DESCRIPTION:Le salon Studyrama des Formations Art\, Communication et Digital d’Aix-en-Provence vous donne rendez-vous à l’Arena du Pays d’Aix\, le samedi 12 octobre\, pour préparer votre futur ! \nPour affiner votre projet d’orientation\, de nombreux professionnels et spécialistes des secteurs de l’art\, de la communication\, du cinéma et du digital seront présents pour échanger autour des problématiques liées aux différents métiers et débouchés. \nNous vous invitons à venir découvrir près de 200 formations de Bac à Bac+5 parmi des lycées proposant des BTS et Prépas\, CFA (Centres de Formation d’Apprentis)\, Ecoles d’Art\, Ecoles de Communication etc. Les responsables pédagogiques vous présenteront en détails\, leurs programmes\, les débouchés\, leurs conditions d’admissions\, les concours… Tandis que pour des conseils plus pratiques\, des étudiants en formation seront disponibles pour échanger avec vous. \nDécouvrez votre métier de demain sur le salon Studyrama\nA travers les différentes formations présentées\, découvrez les nombreux secteurs d’activité et métiers qui y sont liés : Animateur 2D et 3D\, Antiquaire\, Archetier\, Architecte d’intérieur\, Peintre\, Bijoutier\, Céramiste\, Chef de travaux\, Technicien d’art\, Restaurateur\, Commissaire priseur\, Décorateur d’intérieur\, Décorateur-Scénographe\, Graphiste\, Communicant\, Galeriste\, Maquilleur\, Modeleur\, Technicien photo…
URL:https://azimut-orientation.com/calendrier-orientation/salon-studyrama-des-formations-art-communication-et-digital-daix-en-provence/
LOCATION:Studyrama Aix en Provence\, ARENA DU PAYS D’AIX\, Aix en Provence
CATEGORIES:Salon
ATTACH;FMTTYPE=image/png:https://azimut-orientation.com/wp-content/uploads/2024/10/Studyrama.png
END:VEVENT
END:VCALENDAR