BEGIN:VCALENDAR
VERSION:2.0
PRODID:-//AZIMUT orientation - ECPv6.15.20//NONSGML v1.0//EN
CALSCALE:GREGORIAN
METHOD:PUBLISH
X-WR-CALNAME:AZIMUT orientation
X-ORIGINAL-URL:https://azimut-orientation.com
X-WR-CALDESC:Évènements pour AZIMUT orientation
REFRESH-INTERVAL;VALUE=DURATION:PT1H
X-Robots-Tag:noindex
X-PUBLISHED-TTL:PT1H
BEGIN:VTIMEZONE
TZID:Europe/Paris
BEGIN:DAYLIGHT
TZOFFSETFROM:+0100
TZOFFSETTO:+0200
TZNAME:CEST
DTSTART:20250330T010000
END:DAYLIGHT
BEGIN:STANDARD
TZOFFSETFROM:+0200
TZOFFSETTO:+0100
TZNAME:CET
DTSTART:20251026T010000
END:STANDARD
BEGIN:DAYLIGHT
TZOFFSETFROM:+0100
TZOFFSETTO:+0200
TZNAME:CEST
DTSTART:20260329T010000
END:DAYLIGHT
BEGIN:STANDARD
TZOFFSETFROM:+0200
TZOFFSETTO:+0100
TZNAME:CET
DTSTART:20261025T010000
END:STANDARD
BEGIN:DAYLIGHT
TZOFFSETFROM:+0100
TZOFFSETTO:+0200
TZNAME:CEST
DTSTART:20270328T010000
END:DAYLIGHT
BEGIN:STANDARD
TZOFFSETFROM:+0200
TZOFFSETTO:+0100
TZNAME:CET
DTSTART:20271031T010000
END:STANDARD
END:VTIMEZONE
BEGIN:VEVENT
DTSTART;VALUE=DATE:20260520
DTEND;VALUE=DATE:20260521
DTSTAMP:20260423T183829
CREATED:20260415T134401Z
LAST-MODIFIED:20260415T134401Z
UID:19697-1779235200-1779321599@azimut-orientation.com
SUMMARY:Soirée de l'orientation - ESIS Paris
DESCRIPTION:Les journées et soirées de l’orientation offrent un cadre privilégié pour rencontrer les enseignants\, découvrir les formations et visiter le campus\, donnant aux futurs étudiants un aperçu de leur avenir académique et professionnel. \nPour en savoir plus sur l’ESIS
URL:https://azimut-orientation.com/calendrier-orientation/soiree-de-lorientation-esis-paris/
LOCATION:ESIS PARIS\, 39 rue Grange aux Belles\, Paris\, 75010\, France
CATEGORIES:Journées portes ouvertes
ATTACH;FMTTYPE=image/png:https://azimut-orientation.com/wp-content/uploads/2026/03/ESIS.png
END:VEVENT
END:VCALENDAR